BEGIN:VCALENDAR
VERSION:2.0
PRODID:-//wp-events-plugin.com//7.2.3.1//EN
TZID:Europe/Berlin
X-WR-TIMEZONE:Europe/Berlin
BEGIN:VEVENT
UID:326@hsv-moosburg-aich.de
DTSTART;TZID=Europe/Berlin;VALUE=DATE:20260401
DTEND;TZID=Europe/Berlin;VALUE=DATE:20261001
DTSTAMP:20260404T195538Z
URL:https://hsv-moosburg-aich.de/veranstaltungen/agility-beginner-kurs/
SUMMARY:Agility Beginner Kurs
DESCRIPTION:Agility Beginner Kurs - Gemeinsam aktiv werden!\nDu möchtest m
 it deinem Hund etwas Neues ausproieren\, euch als Team weiterentwickeln un
 d dabei jede Menge Spaß haben?\nDann ist unser Agility Beginner Kurs gena
 u das Richtige für dich. Hier könnt ihr erste Hindernisse gemeinsam meis
 tern und als Team noch enger zusammenwachsen - und das ganz ohne Leistungs
 druck und mit viel Freude!\nTermine: nach Bedarf\nVoraussetzungen: Hunde a
 b einem Alter von 6 Monaten (mit Grundgehorsam)\n&nbsp\;\n&nbsp\;\nAnmeldu
 ng:&nbsp\;Hans Poser (Spartenleitung)\n&nbsp\;
ATTACH;FMTTYPE=image/jpeg:https://hsv-moosburg-aich.de/wp-content/uploads/
 2026/04/WhatsApp-Image-2026-04-01-at-20.15.43.jpeg
CATEGORIES:Sonstiges
LOCATION:HSV Moosburg-Aich e.V.\, Holzlandstraße\, Moosburg a.d. Isar\, Ba
 yern\, 85368\, Deutschland
X-APPLE-STRUCTURED-LOCATION;VALUE=URI;X-ADDRESS=Holzlandstraße\, Moosburg 
 a.d. Isar\, Bayern\, 85368\, Deutschland;X-APPLE-RADIUS=100;X-TITLE=HSV Mo
 osburg-Aich e.V.:geo:0,0
END:VEVENT
BEGIN:VTIMEZONE
TZID:Europe/Berlin
X-LIC-LOCATION:Europe/Berlin
BEGIN:DAYLIGHT
DTSTART:20260329T030000
TZOFFSETFROM:+0100
TZOFFSETTO:+0200
TZNAME:CEST
END:DAYLIGHT
END:VTIMEZONE
END:VCALENDAR