BEGIN:VCALENDAR
VERSION:2.0
PRODID:-//wp-events-plugin.com//7.2.3.1//EN
TZID:Europe/Berlin
X-WR-TIMEZONE:Europe/Berlin
BEGIN:VEVENT
UID:303@hsv-moosburg-aich.de
DTSTART;TZID=Europe/Berlin;VALUE=DATE:20260620
DTEND;TZID=Europe/Berlin;VALUE=DATE:20260622
DTSTAMP:20260320T093040Z
URL:https://hsv-moosburg-aich.de/veranstaltungen/agility-seminar-mit-fabia
 n-muenzer-2/
SUMMARY:Agility Seminar mit Fabian Münzer
DESCRIPTION:Wir freuen uns\, euch ein neues Agility-Seminar anbieten zu kö
 nnen! Termin: 20. - 21.06.2026Teilnahme: alle Leistungsklassen sind herzli
 ch willkommenDauer: pro Team ca. 30 Minuten individuelles TrainingKosten: 
 werden noch bekanntgegeben\nAnmeldung &amp\; weitere Informationen: bitte 
 direkt bei Hans Poser.&nbsp\;\nWir freuen uns auf viele motivierte Teams u
 nd ein spannendes\, lehrreiches Seminar!&nbsp\;
ATTACH;FMTTYPE=image/jpeg:https://hsv-moosburg-aich.de/wp-content/uploads/
 2025/10/Muenzer-Simnar-Agi.png
CATEGORIES:Seminar
LOCATION:HSV Moosburg-Aich e.V.\, Holzlandstraße\, Moosburg a.d. Isar\, Ba
 yern\, 85368\, Deutschland
X-APPLE-STRUCTURED-LOCATION;VALUE=URI;X-ADDRESS=Holzlandstraße\, Moosburg 
 a.d. Isar\, Bayern\, 85368\, Deutschland;X-APPLE-RADIUS=100;X-TITLE=HSV Mo
 osburg-Aich e.V.:geo:0,0
END:VEVENT
BEGIN:VTIMEZONE
TZID:Europe/Berlin
X-LIC-LOCATION:Europe/Berlin
BEGIN:DAYLIGHT
DTSTART:20260329T030000
TZOFFSETFROM:+0100
TZOFFSETTO:+0200
TZNAME:CEST
END:DAYLIGHT
END:VTIMEZONE
END:VCALENDAR