BEGIN:VCALENDAR
VERSION:2.0
PRODID:-//wp-events-plugin.com//7.2.3.1//EN
TZID:Europe/Berlin
X-WR-TIMEZONE:Europe/Berlin
BEGIN:VEVENT
UID:318@hsv-moosburg-aich.de
DTSTART;TZID=Europe/Berlin;VALUE=DATE:20260912
DTEND;TZID=Europe/Berlin;VALUE=DATE:20260913
DTSTAMP:20260128T055940Z
URL:https://hsv-moosburg-aich.de/veranstaltungen/agility-speedturnier/
SUMMARY:Agility Speedturnier
DESCRIPTION:Am 12. September 2026 laden wir herzlich zu unserem Agility Spe
 edturnier ein.\n\nFreut euch auf schnelle\, spannende Parcours und sportli
 che Läufe in allen Klassen.\n\nAls Richterin dürfen wir Julia Seidel beg
 rüßen\, die für faire und anspruchsvolle Parcours sorgen wird.\n\nWir f
 reuen uns auf zahlreiche Starter\, mitfiebernde Zuschauer und einen tollen
  Turniertag voller Teamwork\, Tempo und Spaß!
ATTACH;FMTTYPE=image/jpeg:https://hsv-moosburg-aich.de/wp-content/uploads/
 2026/01/Agility.png
CATEGORIES:Turnier
LOCATION:HSV Moosburg-Aich e.V.\, Holzlandstraße\, Moosburg a.d. Isar\, Ba
 yern\, 85368\, Deutschland
X-APPLE-STRUCTURED-LOCATION;VALUE=URI;X-ADDRESS=Holzlandstraße\, Moosburg 
 a.d. Isar\, Bayern\, 85368\, Deutschland;X-APPLE-RADIUS=100;X-TITLE=HSV Mo
 osburg-Aich e.V.:geo:0,0
END:VEVENT
BEGIN:VTIMEZONE
TZID:Europe/Berlin
X-LIC-LOCATION:Europe/Berlin
BEGIN:DAYLIGHT
DTSTART:20260329T030000
TZOFFSETFROM:+0100
TZOFFSETTO:+0200
TZNAME:CEST
END:DAYLIGHT
END:VTIMEZONE
END:VCALENDAR