BEGIN:VCALENDAR
VERSION:2.0
PRODID:-//wp-events-plugin.com//7.2.3.1//EN
TZID:Europe/Berlin
X-WR-TIMEZONE:Europe/Berlin
BEGIN:VEVENT
UID:261@hsv-moosburg-aich.de
DTSTART;TZID=Europe/Berlin;VALUE=DATE:20240727
DTEND;TZID=Europe/Berlin;VALUE=DATE:20240729
DTSTAMP:20240201T173105Z
URL:https://hsv-moosburg-aich.de/veranstaltungen/agility-turnier-am-07-06-
 hop-and-go/
SUMMARY:Agility-Turnier
DESCRIPTION:Agility-Turnier\n\nAnmeldung über O.M.A. Hundesportkalender (S
 amstag 27.07.\, Sonntag 28.07.)
ATTACH;FMTTYPE=image/jpeg:https://hsv-moosburg-aich.de/wp-content/uploads/
 2023/11/Pokal.png
CATEGORIES:Turnier
LOCATION:HSV Moosburg-Aich e.V.\, Holzlandstraße\, Moosburg a.d. Isar\, Ba
 yern\, 85368\, Deutschland
X-APPLE-STRUCTURED-LOCATION;VALUE=URI;X-ADDRESS=Holzlandstraße\, Moosburg 
 a.d. Isar\, Bayern\, 85368\, Deutschland;X-APPLE-RADIUS=100;X-TITLE=HSV Mo
 osburg-Aich e.V.:geo:0,0
END:VEVENT
BEGIN:VTIMEZONE
TZID:Europe/Berlin
X-LIC-LOCATION:Europe/Berlin
BEGIN:DAYLIGHT
DTSTART:20240331T030000
TZOFFSETFROM:+0100
TZOFFSETTO:+0200
TZNAME:CEST
END:DAYLIGHT
END:VTIMEZONE
END:VCALENDAR