BEGIN:VCALENDAR
VERSION:2.0
PRODID:-//wp-events-plugin.com//7.2.3.1//EN
TZID:Europe/Berlin
X-WR-TIMEZONE:Europe/Berlin
BEGIN:VEVENT
UID:317@hsv-moosburg-aich.de
DTSTART;TZID=Europe/Berlin;VALUE=DATE:20260613
DTEND;TZID=Europe/Berlin;VALUE=DATE:20260614
DTSTAMP:20260201T161725Z
URL:https://hsv-moosburg-aich.de/veranstaltungen/begleithundepruefung-am-1
 3-06-2026/
SUMMARY:Begleithundeprüfung am 13.06.2026
DESCRIPTION:Am 13. Juni 2026 veranstalten wir eine Begleithundeprüfung (BH
 ) und freuen uns auf motivierte Mensch-Hund-Teams.\nDie BH-Prüfung bildet
  eine wichtige Grundlage für viele Hundesportarten und legt besonderen We
 rt auf Unterordnung\, Alltagstauglichkeit und ein harmonisches Miteinander
 .\nAlle Teams\, die die Voraussetzungen laut Prüfungsordnung erfüllen\, 
 sind herzlich eingeladen teilzunehmen.\nWeitere Informationen zu Ablauf\, 
 Anmeldung und Voraussetzungen werden rechtzeitig bekannt gegeben.\nBei Fra
 gen wendet euch gerne an unseren 1. Vorstand – er steht euch jederzeit f
 ür Auskünfte zur Verfügung.&nbsp\;\nKontakt und Meldeformular
ATTACH;FMTTYPE=image/jpeg:https://hsv-moosburg-aich.de/wp-content/uploads/
 2026/01/BH-Juni-2026.png
CATEGORIES:Prüfung
LOCATION:HSV Moosburg-Aich e.V.\, Holzlandstraße\, Moosburg a.d. Isar\, Ba
 yern\, 85368\, Deutschland
X-APPLE-STRUCTURED-LOCATION;VALUE=URI;X-ADDRESS=Holzlandstraße\, Moosburg 
 a.d. Isar\, Bayern\, 85368\, Deutschland;X-APPLE-RADIUS=100;X-TITLE=HSV Mo
 osburg-Aich e.V.:geo:0,0
END:VEVENT
BEGIN:VTIMEZONE
TZID:Europe/Berlin
X-LIC-LOCATION:Europe/Berlin
BEGIN:DAYLIGHT
DTSTART:20260329T030000
TZOFFSETFROM:+0100
TZOFFSETTO:+0200
TZNAME:CEST
END:DAYLIGHT
END:VTIMEZONE
END:VCALENDAR