BEGIN:VCALENDAR
VERSION:2.0
PRODID:-//wp-events-plugin.com//7.2.3.1//EN
TZID:Europe/Berlin
X-WR-TIMEZONE:Europe/Berlin
BEGIN:VEVENT
UID:305@hsv-moosburg-aich.de
DTSTART;TZID=Europe/Berlin;VALUE=DATE:20260704
DTEND;TZID=Europe/Berlin;VALUE=DATE:20260706
DTSTAMP:20251230T162936Z
URL:https://hsv-moosburg-aich.de/veranstaltungen/hoopers-seminar-mit-patri
 zia-de-carli/
SUMMARY:Hoopers Seminar mit Patrizia de Carli
DESCRIPTION:Die Teilnahmegebühr beträgt 220\,00 EUR inkl. MwSt. für beid
 e Tage (115\,00 EUR für einen Tag)\n\nAnmeldung direkt hier&nbsp\;
ATTACH;FMTTYPE=image/jpeg:https://hsv-moosburg-aich.de/wp-content/uploads/
 2025/12/Hoopers-Seminar-Juli-2026.png
CATEGORIES:Seminar
LOCATION:HSV Moosburg-Aich e.V.\, Holzlandstraße\, Moosburg a.d. Isar\, Ba
 yern\, 85368\, Deutschland
X-APPLE-STRUCTURED-LOCATION;VALUE=URI;X-ADDRESS=Holzlandstraße\, Moosburg 
 a.d. Isar\, Bayern\, 85368\, Deutschland;X-APPLE-RADIUS=100;X-TITLE=HSV Mo
 osburg-Aich e.V.:geo:0,0
END:VEVENT
BEGIN:VTIMEZONE
TZID:Europe/Berlin
X-LIC-LOCATION:Europe/Berlin
BEGIN:DAYLIGHT
DTSTART:20260329T030000
TZOFFSETFROM:+0100
TZOFFSETTO:+0200
TZNAME:CEST
END:DAYLIGHT
END:VTIMEZONE
END:VCALENDAR