BEGIN:VCALENDAR
VERSION:2.0
PRODID:-//wp-events-plugin.com//7.2.3.1//EN
TZID:Europe/Berlin
X-WR-TIMEZONE:Europe/Berlin
BEGIN:VEVENT
UID:315@hsv-moosburg-aich.de
DTSTART;TZID=Europe/Berlin;VALUE=DATE:20260418
DTEND;TZID=Europe/Berlin;VALUE=DATE:20260420
DTSTAMP:20260106T091926Z
URL:https://hsv-moosburg-aich.de/veranstaltungen/hoopers-und-treibball-sem
 inar-mit-andrea-girardi/
SUMMARY:Hoopers und Treibball Seminar mit Andrea Girardi
DESCRIPTION:Hoopers- &amp\; Treibball-Seminar mit Andrea Girardi\n18. &amp\
 ; 19. April 2026\nFreut euch auf ein intensives und praxisnahes Hoopers- u
 nd Treibball-Seminar mit Andrea Girardi!In kleinen Gruppen arbeiten wir ge
 zielt an Technik\, Verständnis und Teamarbeit – ideal für motivierte M
 ensch-Hund-Teams.\n\nFür wen ist das Seminar geeignet?\nAnfänger:innen u
 nd Fortgeschrittene\nLeistungsstand bis Hoopers H2 / Treibball T2\nIntensi
 ves Arbeiten in Kleingruppen mit max. 5 Teams pro Workshop\n\nSeminarstruk
 tur\nVormittag: Hoopers09:30 – 12:30 Uhr\nNachmittag: Treibball13:30 –
  16:30 Uhr\nWichtig:Pro Hund ist nur ein Workshop pro Tag möglich – ent
 weder Hoopers oder Treibball.\n\nTeilnahmegebühr\n60\,00 € pro Workshop
  / Team\nDieses Seminar bietet euch die Möglichkeit\, individuell zu trai
 nieren\, neue Impulse mitzunehmen und eure Zusammenarbeit weiter zu vertie
 fen – egal ob ihr neu einsteigt oder bereits Erfahrung mitbringt\nAnmeld
 ung und mehr Infos bei Anne Reithmair unter: 0171/9050738 oder annikarl.re
 ithmair@gmail.com
ATTACH;FMTTYPE=image/jpeg:https://hsv-moosburg-aich.de/wp-content/uploads/
 2026/01/Hoopers-Seminar-April-26.png
CATEGORIES:Seminar
LOCATION:HSV Moosburg-Aich e.V.\, Holzlandstraße\, Moosburg a.d. Isar\, Ba
 yern\, 85368\, Deutschland
X-APPLE-STRUCTURED-LOCATION;VALUE=URI;X-ADDRESS=Holzlandstraße\, Moosburg 
 a.d. Isar\, Bayern\, 85368\, Deutschland;X-APPLE-RADIUS=100;X-TITLE=HSV Mo
 osburg-Aich e.V.:geo:0,0
END:VEVENT
BEGIN:VTIMEZONE
TZID:Europe/Berlin
X-LIC-LOCATION:Europe/Berlin
BEGIN:DAYLIGHT
DTSTART:20260329T030000
TZOFFSETFROM:+0100
TZOFFSETTO:+0200
TZNAME:CEST
END:DAYLIGHT
END:VTIMEZONE
END:VCALENDAR