BEGIN:VCALENDAR
VERSION:2.0
PRODID:-//wp-events-plugin.com//7.2.3.1//EN
TZID:Europe/Berlin
X-WR-TIMEZONE:Europe/Berlin
BEGIN:VEVENT
UID:320@hsv-moosburg-aich.de
DTSTART;TZID=Europe/Berlin;VALUE=DATE:20260601
DTEND;TZID=Europe/Berlin;VALUE=DATE:20260602
DTSTAMP:20260308T125155Z
URL:https://hsv-moosburg-aich.de/veranstaltungen/sitz-platz-pfui-junghunde
 training-ab-juni-2026/
SUMMARY:Junghundetraining ab Juni 2026
DESCRIPTION:Sitz. Platz. Pfui. - Junghundetraining ab Juni 2026\nStart: Jun
 i 2026\nTermin: Freitags ab 18:00 Uhr\nUmfang: 8 Trainingseinheiten (45 mi
 n) in kleiner Gruppe\nKosten: 180 Euro\n&nbsp\;\n\nDu hast einen jungen Hu
 nd und möchtest die Grundlagen für einen entspannten Alltag legen?\nDann
  ist unser Kurs genau das Richtige für euch!\n\n\n&nbsp\;\n\n\nDas erwart
 et euch im Kurs:\n\n 	Alltagssituationen souverän meistern\n 	Perfekt fü
 r Einsteiger geeignet\n 	Sinnvolle Beschäftigung für Hund &amp\; Halter\
 n 	Training mit modernen\, positiven Methoden\n 	Betreuung durch erfahrene
  Trainer\n\n\n\nDas trainieren wir gemeinsam:\n\n 	Grundkommandos sicher a
 usführen\n 	Ruhige Begegnungen mit anderen Hunden\n 	Bessere Impulskontro
 lle\n\n\nFür wen ist der Kurs geeignet?\nFür Hunde zwischen 8 Monaten un
 d 2\,5 Jahren\n&nbsp\;\nAnmeldung: https://forms.gle/Uwi6WxwjnBTcEUw5A\n&n
 bsp\;
ATTACH;FMTTYPE=image/jpeg:https://hsv-moosburg-aich.de/wp-content/uploads/
 2026/03/WhatsApp-Image-2026-03-05-at-21.09.27.jpeg
CATEGORIES:Sonstiges
LOCATION:HSV Moosburg-Aich e.V.\, Holzlandstraße\, Moosburg a.d. Isar\, Ba
 yern\, 85368\, Deutschland
X-APPLE-STRUCTURED-LOCATION;VALUE=URI;X-ADDRESS=Holzlandstraße\, Moosburg 
 a.d. Isar\, Bayern\, 85368\, Deutschland;X-APPLE-RADIUS=100;X-TITLE=HSV Mo
 osburg-Aich e.V.:geo:0,0
END:VEVENT
BEGIN:VTIMEZONE
TZID:Europe/Berlin
X-LIC-LOCATION:Europe/Berlin
BEGIN:DAYLIGHT
DTSTART:20260329T030000
TZOFFSETFROM:+0100
TZOFFSETTO:+0200
TZNAME:CEST
END:DAYLIGHT
END:VTIMEZONE
END:VCALENDAR