BEGIN:VCALENDAR
VERSION:2.0
PRODID:-//wp-events-plugin.com//7.2.3.1//EN
TZID:Europe/Berlin
X-WR-TIMEZONE:Europe/Berlin
BEGIN:VEVENT
UID:309@hsv-moosburg-aich.de
DTSTART;TZID=Europe/Berlin;VALUE=DATE:20260905
DTEND;TZID=Europe/Berlin;VALUE=DATE:20260907
DTSTAMP:20251230T120923Z
URL:https://hsv-moosburg-aich.de/veranstaltungen/susi-huber-next-stars-tra
 iningswochenende-obedience-2/
SUMMARY:Susi Huber - "Next stars" - Trainingswochenende Obedience
DESCRIPTION:Aktuell können samstags nur noch Plätze für die Warteliste v
 ergeben werden.\n\nSusanne Huber ist erfahrene Hundetrainerin und -züchte
 rin.\n\nSie ist Obedience-Leistungsrichterin im VDH und war mitverantwortl
 ich dafür\, diese Sportart Mitte der 1990er Jahre in Deutschland bekanntz
 umachen\n\nKosten: 95\,00 € pro Tag (aktiv) 35\,00 € pro Tag (passiv) 
 180\,00 € beide Tage (aktiv)\n\nAnmeldung direkt hier\n\nFragen? Einfach
  eine Mail an:&nbsp\;meldestelle.hsv@gmail.com&nbsp\;
ATTACH;FMTTYPE=image/jpeg:https://hsv-moosburg-aich.de/wp-content/uploads/
 2025/12/Huber-September.png
CATEGORIES:Seminar
LOCATION:HSV Moosburg-Aich e.V.\, Holzlandstraße\, Moosburg a.d. Isar\, Ba
 yern\, 85368\, Deutschland
X-APPLE-STRUCTURED-LOCATION;VALUE=URI;X-ADDRESS=Holzlandstraße\, Moosburg 
 a.d. Isar\, Bayern\, 85368\, Deutschland;X-APPLE-RADIUS=100;X-TITLE=HSV Mo
 osburg-Aich e.V.:geo:0,0
END:VEVENT
BEGIN:VTIMEZONE
TZID:Europe/Berlin
X-LIC-LOCATION:Europe/Berlin
BEGIN:DAYLIGHT
DTSTART:20260329T030000
TZOFFSETFROM:+0100
TZOFFSETTO:+0200
TZNAME:CEST
END:DAYLIGHT
END:VTIMEZONE
END:VCALENDAR