BEGIN:VCALENDAR
VERSION:2.0
PRODID:-//wp-events-plugin.com//7.2.3.1//EN
TZID:Europe/Berlin
X-WR-TIMEZONE:Europe/Berlin
BEGIN:VEVENT
UID:313@hsv-moosburg-aich.de
DTSTART;TZID=Europe/Berlin;VALUE=DATE:20260524
DTEND;TZID=Europe/Berlin;VALUE=DATE:20260525
DTSTAMP:20251230T123903Z
URL:https://hsv-moosburg-aich.de/veranstaltungen/treibball-freestyle-turni
 er/
SUMMARY:Treibball-Freestyle Turnier
DESCRIPTION:Wann: Sonntag\, 24.05.2026\n\nTurnierbeginn: 9 Uhr\n\nAnmeldung
  vor Ort: 8:00-8:30 Uhr\n\nRichter: Anja Jakob und Helga Jankowski\n\nAnza
 hl Starter: max. 30\n\nKlassen: Leistungsklassen 1-3 und Funklasse\n\nStar
 gebühr: 15 Euro&nbsp\;\n\nMeldeschluss: 26.04.2026 (oder wenn max. Anzahl
  der Starter erreicht)\n\nInfos zum Turnier\n\nDas Treibball-Freestyle-Tur
 nier besteht aus zwei Läufen. Der 1. Lauf klassisch (3-8 Bälle im Dreiec
 k) und der 2. Lauf im Freestyle (Aufgabe wird 4 Wochen zuvor bekannt gegeb
 en). Zudem wird eine Funklasse angeboten bei der jeder frei entscheiden ka
 nn\, was er dem Wertungsrichtern und dem Publikum zeigen möchte\, egal ob
  Beginner\, Fortgeschritten oder schon Profi.\n\nHier ist das aktuelle Tre
 ibball-Freestyle Reglement als PDF zum Download.\n\nHinweis:\n\nDa es sich
  um ein Treibball-Freestyle-Turnier handelt\, ist keine Leistungsurkunde e
 rforderlich. Allerdings gibt es für die Leistungsklassen eine Treibball-F
 reestyle Leistungskarte\, die man bei der Anmeldung vor Ort erhält.\n\nAn
 meldung
ATTACH;FMTTYPE=image/jpeg:https://hsv-moosburg-aich.de/wp-content/uploads/
 2025/12/Treibball-Turnier.png
CATEGORIES:Turnier
LOCATION:HSV Moosburg-Aich e.V.\, Holzlandstraße\, Moosburg a.d. Isar\, Ba
 yern\, 85368\, Deutschland
X-APPLE-STRUCTURED-LOCATION;VALUE=URI;X-ADDRESS=Holzlandstraße\, Moosburg 
 a.d. Isar\, Bayern\, 85368\, Deutschland;X-APPLE-RADIUS=100;X-TITLE=HSV Mo
 osburg-Aich e.V.:geo:0,0
END:VEVENT
BEGIN:VTIMEZONE
TZID:Europe/Berlin
X-LIC-LOCATION:Europe/Berlin
BEGIN:DAYLIGHT
DTSTART:20260329T030000
TZOFFSETFROM:+0100
TZOFFSETTO:+0200
TZNAME:CEST
END:DAYLIGHT
END:VTIMEZONE
END:VCALENDAR