BEGIN:VCALENDAR
VERSION:2.0
PRODID:-//wp-events-plugin.com//7.2.3.1//EN
TZID:Europe/Berlin
X-WR-TIMEZONE:Europe/Berlin
BEGIN:VEVENT
UID:314@hsv-moosburg-aich.de
DTSTART;TZID=Europe/Berlin:20260523T000000
DTEND;TZID=Europe/Berlin:20260523T000000
DTSTAMP:20260212T194345Z
URL:https://hsv-moosburg-aich.de/veranstaltungen/treibball-seminar-mit-anj
 a-jakob-2/
SUMMARY:Treibball-Seminar mit Anja Jakob
DESCRIPTION:Wann: Samstag\, 23.05.2026\n\nUhrzeit: 10:00 - ca. 16.30 Uhr\n\
 nKosten: 95 €\n\nWir freuen uns sehr\, dass Anja Jakob am Samstag\, den 
 23.05.2026\, für ein Treibball-Seminar zu uns zum HSV Moosburg-Aich e. V.
  kommt!\n\nAnja Jakob ist eine erfahrene Hundetrainerin\, Seminarleiterin 
 und Autorin. Ihr Schwerpunkt liegt auf kreativen Hundesportarten und abwec
 hslungsreicher Beschäftigung. Mehr Infos zu Anja\n\nSeminarinhalte\n\nFü
 r Beginner\n\nAnfängerteams üben spielerisch die Grundlagen des Treibbal
 ls und erhalten Anregungen\, wie sich diese variantenreich kombinieren und
  Schritt für Schritt ausbauen lassen. Dazu gehören:\n\n 	Treiben der Bä
 lle\n 	Arbeit mit Bodentargets\n 	Umrunden von Gegenständen\n 	Ausrichten
  und Warten hinter Gegenständen bzw. Bällen\n 	Richtungssignale wie\, 
 „Vor“\, „Rechts“ und „Links“\n\nFür Fortgeschrittene\n\nFortg
 eschrittene Teams erwartet eine Vielzahl neuer Übungen und Spielvarianten
  mit unterschiedlichen Schwerpunkten\, z. B.:\n\n 	Optimierung der Treibte
 chnik\n 	Treiben mehrerer Bälle\n 	Simulation von Turniersituationen\n 	T
 eam- und Spaßspiele\n 	Individuelle Hilfestellung bei Trainingsproblemen\
 n\nZiel des Seminars\n\nDein Hund lernt\, besser zuzuhören und aufmerksam
  auf deine Signale zu achten. Anfänger wie Fortgeschrittene werden hier i
 ndividuell gefördert\, sodass jedes Team mit persönlichen Trainingserfol
 gen nach Hause fährt.\n\nFreue dich auf einen abwechslungsreichen Seminar
 tag mit viel Spaß\, neuen Ideen und gemeinsamen Lernerfolgen!\n\nAnmeldun
 g\n\nAnsprechpartner: Caroline Weinreich (Whatsapp: 0176 31218533)
ATTACH;FMTTYPE=image/jpeg:https://hsv-moosburg-aich.de/wp-content/uploads/
 2025/12/Treibball-Seminar.png
CATEGORIES:Seminar
LOCATION:HSV Moosburg-Aich e.V.\, Holzlandstraße\, Moosburg a.d. Isar\, Ba
 yern\, 85368\, Deutschland
X-APPLE-STRUCTURED-LOCATION;VALUE=URI;X-ADDRESS=Holzlandstraße\, Moosburg 
 a.d. Isar\, Bayern\, 85368\, Deutschland;X-APPLE-RADIUS=100;X-TITLE=HSV Mo
 osburg-Aich e.V.:geo:0,0
END:VEVENT
BEGIN:VTIMEZONE
TZID:Europe/Berlin
X-LIC-LOCATION:Europe/Berlin
BEGIN:DAYLIGHT
DTSTART:20260329T030000
TZOFFSETFROM:+0100
TZOFFSETTO:+0200
TZNAME:CEST
END:DAYLIGHT
END:VTIMEZONE
END:VCALENDAR